BEGIN:VCALENDAR
VERSION:2.0
PRODID:-//Turf Center, Inc. - ECPv6.15.20//NONSGML v1.0//EN
CALSCALE:GREGORIAN
METHOD:PUBLISH
X-WR-CALNAME:Turf Center, Inc.
X-ORIGINAL-URL:https://www.southernstatesturf.com
X-WR-CALDESC:Events for Turf Center, Inc.
REFRESH-INTERVAL;VALUE=DURATION:PT1H
X-Robots-Tag:noindex
X-PUBLISHED-TTL:PT1H
BEGIN:VTIMEZONE
TZID:America/New_York
BEGIN:DAYLIGHT
TZOFFSETFROM:-0500
TZOFFSETTO:-0400
TZNAME:EDT
DTSTART:20250309T070000
END:DAYLIGHT
BEGIN:STANDARD
TZOFFSETFROM:-0400
TZOFFSETTO:-0500
TZNAME:EST
DTSTART:20251102T060000
END:STANDARD
BEGIN:DAYLIGHT
TZOFFSETFROM:-0500
TZOFFSETTO:-0400
TZNAME:EDT
DTSTART:20260308T070000
END:DAYLIGHT
BEGIN:STANDARD
TZOFFSETFROM:-0400
TZOFFSETTO:-0500
TZNAME:EST
DTSTART:20261101T060000
END:STANDARD
BEGIN:DAYLIGHT
TZOFFSETFROM:-0500
TZOFFSETTO:-0400
TZNAME:EDT
DTSTART:20270314T070000
END:DAYLIGHT
BEGIN:STANDARD
TZOFFSETFROM:-0400
TZOFFSETTO:-0500
TZNAME:EST
DTSTART:20271107T060000
END:STANDARD
END:VTIMEZONE
BEGIN:VEVENT
DTSTART;VALUE=DATE:20260305
DTEND;VALUE=DATE:20260424
DTSTAMP:20260423T074522
CREATED:20171216T164838Z
LAST-MODIFIED:20260107T175907Z
UID:106-1772668800-1776988799@www.southernstatesturf.com
SUMMARY:Chick Days
DESCRIPTION: CHICK DAYS 2026\nMarch 5 – April 23\nSee order form below. \nChicks are newly hatched females (sexing is 90% accurate). All sales on chicks are final\, no returns or refunds. \nWe will have a limited number of chicks available for walk-ins; but to ensure you get the breeds and numbers you desire\, please fill out the form below by March 1st. You may also come by the store and fill out a form\, call us or email us your information. \nChicks should arrive on Thursdays but delays occasionally do occur. As soon as your chicks arrive we will notify you either by phone or e-mail. All chicks must be picked up by the Saturday after their hatch date. \nOnce we notify you\, you can pick up your chicks during our business hours: \nMon. thru Fri.: 9am – 5pm\nSaturdays: 9am – 1pm\nRemember to be prepared for your new chicks. We have feed\, bedding\, feeders\, waterers\, heat lamps and more! \nIf you have any questions call us (301) 384-6300 or e-mail us turfcenter@verizon.net \n\n\n  \n\n\n\nChick Days Order Form\n\nFull Name (required)\n \n \nPhone # (required)\n \n \nE-mail (required)\n \n \nHatch Date (please choose one):\n\nMarch 5March 12March 19March 26April 2April 9April 16April 23\n \nPlease let us know how many of each breed you would like for your order. Chicks are $5.95/each (payment is due when you pick up your chicks). You should receive a confirmation email within 2 days of submitting your order. If you do not please contact us at (301) 384-6300 or resubmit your order.\n \nBreeds Available (choose how many of each you would like):\n\nWelsummer:\n \nSOLD OUT March 5\, 12\, April 2\, 9 & 23\n\nWelsummers are a Dutch breed known for its cold hardiness\, calm temperament and production of dark reddish-brown eggs. They are a curious and inteligent breed suited well for backyards. Their intricate feather pattern adds beauty to your flock as well.\n \nGolden Comet:\n \nSOLD OUT March 5 & 12\n\nAlso known as red stars\, these birds are an early maturing Rhode Island Red cross that are quiet and easy to handle. They are high producers of brown eggs\, making them a great choice for both family & commercial farms. These chicks are easy to sex by color: no worry of ending up with a rooster!\n \nBuff Orpington:\n \nSOLD OUT March 5 & 12\n\nOrpingtons are dual purpose\, large and docile. They are a beautiful buff color and lay large brown eggs. They are very cold hardy and make great pets and mothers because of their quiet and friendly nature.\n \nAmericana:\n\n \nSOLD OUT March 5\, 12\, 19\, 26 & April 9\n\nAlso known as the Easter egg chicken these birds produce tinted eggs of blue\, green or pink. They vary in size and color with very detailed feather patterns. They are medium sized with pea combs and may have beards and/or muffs.\n \n Any Further Instructions\n \n \n\n Δ
URL:https://www.southernstatesturf.com/event/chick-days/
LOCATION:Turf Center\, Inc.\, 1409 Spencerville Road\, Spencerville\, MD\, 20868\, United States
CATEGORIES:Chick Days
ATTACH;FMTTYPE=image/png:https://www.southernstatesturf.com/wp-content/uploads/2017/12/ChickDays_FeaturedImage1.png
ORGANIZER;CN="Turf Center%2C Inc.":MAILTO:turfcenter@verizon.net
END:VEVENT
BEGIN:VEVENT
DTSTART;VALUE=DATE:20260601
DTEND;VALUE=DATE:20260901
DTSTAMP:20260423T074522
CREATED:20190424T161739Z
LAST-MODIFIED:20260416T170638Z
UID:550-1780272000-1788220799@www.southernstatesturf.com
SUMMARY:Pullet Days
DESCRIPTION:Pullet Days 2026 – June * July * August\nWe will have ready to lay Red Star pullets (4 months old) available by pre-order ($19.00 each). Skip the hassle of raising chicks and get right to collecting eggs!\n\n\n\nPullets will arrive June\, July and August 2026.  All orders must be paid for at the time of ordering and all sales are final\, no returns or refunds.  You will be notified 48 hours before the birds arrive.  All birds must be picked up within 24 hours of arriving at the store.  Please make sure to bring a box or cage to transport your birds home\, one will not be provided. \n\n\n\n\n\n\nTo order stop by the store or call us at (301) 384-6300.  We accept Visa\, Mastercard\, Discover or cash.
URL:https://www.southernstatesturf.com/event/pullet-days/
LOCATION:Turf Center\, Inc.\, 1409 Spencerville Road\, Spencerville\, MD\, 20868\, United States
ORGANIZER;CN="Turf Center%2C Inc.":MAILTO:turfcenter@verizon.net
END:VEVENT
END:VCALENDAR